BEGIN:VCALENDAR
VERSION:2.0
PRODID:-//Glen Cove PBA Pistol Range - ECPv6.15.20//NONSGML v1.0//EN
CALSCALE:GREGORIAN
METHOD:PUBLISH
X-WR-CALNAME:Glen Cove PBA Pistol Range
X-ORIGINAL-URL:https://www.gcpbapistol.com
X-WR-CALDESC:Events for Glen Cove PBA Pistol Range
REFRESH-INTERVAL;VALUE=DURATION:PT1H
X-Robots-Tag:noindex
X-PUBLISHED-TTL:PT1H
BEGIN:VTIMEZONE
TZID:America/New_York
BEGIN:DAYLIGHT
TZOFFSETFROM:-0500
TZOFFSETTO:-0400
TZNAME:EDT
DTSTART:20250309T070000
END:DAYLIGHT
BEGIN:STANDARD
TZOFFSETFROM:-0400
TZOFFSETTO:-0500
TZNAME:EST
DTSTART:20251102T060000
END:STANDARD
BEGIN:DAYLIGHT
TZOFFSETFROM:-0500
TZOFFSETTO:-0400
TZNAME:EDT
DTSTART:20260308T070000
END:DAYLIGHT
BEGIN:STANDARD
TZOFFSETFROM:-0400
TZOFFSETTO:-0500
TZNAME:EST
DTSTART:20261101T060000
END:STANDARD
BEGIN:DAYLIGHT
TZOFFSETFROM:-0500
TZOFFSETTO:-0400
TZNAME:EDT
DTSTART:20270314T070000
END:DAYLIGHT
BEGIN:STANDARD
TZOFFSETFROM:-0400
TZOFFSETTO:-0500
TZNAME:EST
DTSTART:20271107T060000
END:STANDARD
END:VTIMEZONE
BEGIN:VEVENT
DTSTART;TZID=America/New_York:20260509T083000
DTEND;TZID=America/New_York:20260509T110000
DTSTAMP:20260420T013048
CREATED:20260419T222450Z
LAST-MODIFIED:20260419T222450Z
UID:5674-1778315400-1778324400@www.gcpbapistol.com
SUMMARY:RANGE INACCESSIBLE 8:30A - 11A LATTINGTOWN ROAD CLOSED FOR 5K RACE
DESCRIPTION:
URL:https://www.gcpbapistol.com/event/range-inaccessible-830a-11a-lattingtown-road-closed-for-5k-race/
LOCATION:Glen Cove PBA Pistol and Rifle Association\, 109 Lattingtown Rd\, Glen Cove\, NY\, 11542
END:VEVENT
END:VCALENDAR