BEGIN:VCALENDAR
VERSION:2.0
PRODID:-//Glen Cove PBA Pistol Range - ECPv6.15.20//NONSGML v1.0//EN
CALSCALE:GREGORIAN
METHOD:PUBLISH
X-WR-CALNAME:Glen Cove PBA Pistol Range
X-ORIGINAL-URL:https://www.gcpbapistol.com
X-WR-CALDESC:Events for Glen Cove PBA Pistol Range
REFRESH-INTERVAL;VALUE=DURATION:PT1H
X-Robots-Tag:noindex
X-PUBLISHED-TTL:PT1H
BEGIN:VTIMEZONE
TZID:America/New_York
BEGIN:DAYLIGHT
TZOFFSETFROM:-0500
TZOFFSETTO:-0400
TZNAME:EDT
DTSTART:20250309T070000
END:DAYLIGHT
BEGIN:STANDARD
TZOFFSETFROM:-0400
TZOFFSETTO:-0500
TZNAME:EST
DTSTART:20251102T060000
END:STANDARD
BEGIN:DAYLIGHT
TZOFFSETFROM:-0500
TZOFFSETTO:-0400
TZNAME:EDT
DTSTART:20260308T070000
END:DAYLIGHT
BEGIN:STANDARD
TZOFFSETFROM:-0400
TZOFFSETTO:-0500
TZNAME:EST
DTSTART:20261101T060000
END:STANDARD
BEGIN:DAYLIGHT
TZOFFSETFROM:-0500
TZOFFSETTO:-0400
TZNAME:EDT
DTSTART:20270314T070000
END:DAYLIGHT
BEGIN:STANDARD
TZOFFSETFROM:-0400
TZOFFSETTO:-0500
TZNAME:EST
DTSTART:20271107T060000
END:STANDARD
END:VTIMEZONE
BEGIN:VEVENT
DTSTART;TZID=America/New_York:20260309T080000
DTEND;TZID=America/New_York:20260309T160000
DTSTAMP:20260420T033126
CREATED:20260225T202706Z
LAST-MODIFIED:20260306T163654Z
UID:5274-1773043200-1773072000@www.gcpbapistol.com
SUMMARY:RANGE CLOSED 8A - 4P RANGE CONSTRUCTION
DESCRIPTION:
URL:https://www.gcpbapistol.com/event/range-officer-on-site-10a-2p-31/
LOCATION:Glen Cove PBA Pistol and Rifle Association\, 109 Lattingtown Rd\, Glen Cove\, NY\, 11542
END:VEVENT
BEGIN:VEVENT
DTSTART;TZID=America/New_York:20260309T183000
DTEND;TZID=America/New_York:20260309T220000
DTSTAMP:20260420T033126
CREATED:20260225T195739Z
LAST-MODIFIED:20260225T195739Z
UID:5254-1773081000-1773093600@www.gcpbapistol.com
SUMMARY:RANGE OFFICER ON SITE 6:30P - 10P
DESCRIPTION:
URL:https://www.gcpbapistol.com/event/range-officer-on-site-630p-10p-65/
LOCATION:Glen Cove PBA Pistol and Rifle Association\, 109 Lattingtown Rd\, Glen Cove\, NY\, 11542
END:VEVENT
BEGIN:VEVENT
DTSTART;TZID=America/New_York:20260309T190000
DTEND;TZID=America/New_York:20260309T200000
DTSTAMP:20260420T033126
CREATED:20260225T200244Z
LAST-MODIFIED:20260225T200244Z
UID:5264-1773082800-1773086400@www.gcpbapistol.com
SUMMARY:NEW MEMBER ORIENTATION 7P - 8P
DESCRIPTION:
URL:https://www.gcpbapistol.com/event/new-member-orientation-7p-8p-56/
LOCATION:Glen Cove PBA Pistol and Rifle Association\, 109 Lattingtown Rd\, Glen Cove\, NY\, 11542
END:VEVENT
END:VCALENDAR