BEGIN:VCALENDAR
VERSION:2.0
PRODID:-//Glen Cove PBA Pistol Range - ECPv6.15.20//NONSGML v1.0//EN
CALSCALE:GREGORIAN
METHOD:PUBLISH
X-ORIGINAL-URL:https://www.gcpbapistol.com
X-WR-CALDESC:Events for Glen Cove PBA Pistol Range
REFRESH-INTERVAL;VALUE=DURATION:PT1H
X-Robots-Tag:noindex
X-PUBLISHED-TTL:PT1H
BEGIN:VTIMEZONE
TZID:America/New_York
BEGIN:DAYLIGHT
TZOFFSETFROM:-0500
TZOFFSETTO:-0400
TZNAME:EDT
DTSTART:20250309T070000
END:DAYLIGHT
BEGIN:STANDARD
TZOFFSETFROM:-0400
TZOFFSETTO:-0500
TZNAME:EST
DTSTART:20251102T060000
END:STANDARD
BEGIN:DAYLIGHT
TZOFFSETFROM:-0500
TZOFFSETTO:-0400
TZNAME:EDT
DTSTART:20260308T070000
END:DAYLIGHT
BEGIN:STANDARD
TZOFFSETFROM:-0400
TZOFFSETTO:-0500
TZNAME:EST
DTSTART:20261101T060000
END:STANDARD
BEGIN:DAYLIGHT
TZOFFSETFROM:-0500
TZOFFSETTO:-0400
TZNAME:EDT
DTSTART:20270314T070000
END:DAYLIGHT
BEGIN:STANDARD
TZOFFSETFROM:-0400
TZOFFSETTO:-0500
TZNAME:EST
DTSTART:20271107T060000
END:STANDARD
END:VTIMEZONE
BEGIN:VEVENT
DTSTART;TZID=America/New_York:20260218T100000
DTEND;TZID=America/New_York:20260218T110000
DTSTAMP:20260422T130528
CREATED:20260127T194155Z
LAST-MODIFIED:20260127T194155Z
UID:5061-1771408800-1771412400@www.gcpbapistol.com
SUMMARY:RANGE CLOSED 10A - 11A RANGE MAINTENANCE
DESCRIPTION:
URL:https://www.gcpbapistol.com/event/range-closed-10a-11a-range-maintenance-47/
LOCATION:Glen Cove PBA Pistol and Rifle Association\, 109 Lattingtown Rd\, Glen Cove\, NY\, 11542
END:VEVENT
BEGIN:VEVENT
DTSTART;TZID=America/New_York:20260218T110000
DTEND;TZID=America/New_York:20260218T130000
DTSTAMP:20260422T130528
CREATED:20260127T193205Z
LAST-MODIFIED:20260127T193205Z
UID:5039-1771412400-1771419600@www.gcpbapistol.com
SUMMARY:RANGE OFFICER ON SITE 11A- 1P
DESCRIPTION:
URL:https://www.gcpbapistol.com/event/range-officer-on-site-11a-1p-50/
LOCATION:Glen Cove PBA Pistol and Rifle Association\, 109 Lattingtown Rd\, Glen Cove\, NY\, 11542
END:VEVENT
BEGIN:VEVENT
DTSTART;TZID=America/New_York:20260218T190000
DTEND;TZID=America/New_York:20260218T220000
DTSTAMP:20260422T130528
CREATED:20260127T174349Z
LAST-MODIFIED:20260127T174349Z
UID:4964-1771441200-1771452000@www.gcpbapistol.com
SUMMARY:RANGE OFFICER ON SITE 7P - 10P
DESCRIPTION:
URL:https://www.gcpbapistol.com/event/range-officer-on-site-7p-10p-86/
LOCATION:Glen Cove PBA Pistol and Rifle Association\, 109 Lattingtown Rd\, Glen Cove\, NY\, 11542
END:VEVENT
END:VCALENDAR