BEGIN:VCALENDAR
VERSION:2.0
PRODID:-//Glen Cove PBA Pistol Range - ECPv6.15.20//NONSGML v1.0//EN
CALSCALE:GREGORIAN
METHOD:PUBLISH
X-WR-CALNAME:Glen Cove PBA Pistol Range
X-ORIGINAL-URL:https://www.gcpbapistol.com
X-WR-CALDESC:Events for Glen Cove PBA Pistol Range
REFRESH-INTERVAL;VALUE=DURATION:PT1H
X-Robots-Tag:noindex
X-PUBLISHED-TTL:PT1H
BEGIN:VTIMEZONE
TZID:America/New_York
BEGIN:DAYLIGHT
TZOFFSETFROM:-0500
TZOFFSETTO:-0400
TZNAME:EDT
DTSTART:20250309T070000
END:DAYLIGHT
BEGIN:STANDARD
TZOFFSETFROM:-0400
TZOFFSETTO:-0500
TZNAME:EST
DTSTART:20251102T060000
END:STANDARD
BEGIN:DAYLIGHT
TZOFFSETFROM:-0500
TZOFFSETTO:-0400
TZNAME:EDT
DTSTART:20260308T070000
END:DAYLIGHT
BEGIN:STANDARD
TZOFFSETFROM:-0400
TZOFFSETTO:-0500
TZNAME:EST
DTSTART:20261101T060000
END:STANDARD
BEGIN:DAYLIGHT
TZOFFSETFROM:-0500
TZOFFSETTO:-0400
TZNAME:EDT
DTSTART:20270314T070000
END:DAYLIGHT
BEGIN:STANDARD
TZOFFSETFROM:-0400
TZOFFSETTO:-0500
TZNAME:EST
DTSTART:20271107T060000
END:STANDARD
END:VTIMEZONE
BEGIN:VEVENT
DTSTART;TZID=America/New_York:20260211T100000
DTEND;TZID=America/New_York:20260211T110000
DTSTAMP:20260422T063848
CREATED:20260127T194132Z
LAST-MODIFIED:20260127T194132Z
UID:5059-1770804000-1770807600@www.gcpbapistol.com
SUMMARY:RANGE CLOSED 10A - 11A RANGE MAINTENANCE
DESCRIPTION:
URL:https://www.gcpbapistol.com/event/range-closed-10a-11a-range-maintenance-46/
LOCATION:Glen Cove PBA Pistol and Rifle Association\, 109 Lattingtown Rd\, Glen Cove\, NY\, 11542
END:VEVENT
BEGIN:VEVENT
DTSTART;TZID=America/New_York:20260211T110000
DTEND;TZID=America/New_York:20260211T130000
DTSTAMP:20260422T063848
CREATED:20260127T193146Z
LAST-MODIFIED:20260127T193146Z
UID:5037-1770807600-1770814800@www.gcpbapistol.com
SUMMARY:RANGE OFFICER ON SITE 11A- 1P
DESCRIPTION:
URL:https://www.gcpbapistol.com/event/range-officer-on-site-11a-1p-49/
LOCATION:Glen Cove PBA Pistol and Rifle Association\, 109 Lattingtown Rd\, Glen Cove\, NY\, 11542
END:VEVENT
BEGIN:VEVENT
DTSTART;TZID=America/New_York:20260211T190000
DTEND;TZID=America/New_York:20260211T220000
DTSTAMP:20260422T063848
CREATED:20260127T174302Z
LAST-MODIFIED:20260127T174302Z
UID:4961-1770836400-1770847200@www.gcpbapistol.com
SUMMARY:RANGE OFFICER ON SITE 7P - 10P
DESCRIPTION:
URL:https://www.gcpbapistol.com/event/range-officer-on-site-7p-10p-85/
LOCATION:Glen Cove PBA Pistol and Rifle Association\, 109 Lattingtown Rd\, Glen Cove\, NY\, 11542
END:VEVENT
END:VCALENDAR