BEGIN:VCALENDAR
VERSION:2.0
PRODID:-//Glen Cove PBA Pistol Range - ECPv6.15.20//NONSGML v1.0//EN
CALSCALE:GREGORIAN
METHOD:PUBLISH
X-WR-CALNAME:Glen Cove PBA Pistol Range
X-ORIGINAL-URL:https://www.gcpbapistol.com
X-WR-CALDESC:Events for Glen Cove PBA Pistol Range
REFRESH-INTERVAL;VALUE=DURATION:PT1H
X-Robots-Tag:noindex
X-PUBLISHED-TTL:PT1H
BEGIN:VTIMEZONE
TZID:America/New_York
BEGIN:DAYLIGHT
TZOFFSETFROM:-0500
TZOFFSETTO:-0400
TZNAME:EDT
DTSTART:20250309T070000
END:DAYLIGHT
BEGIN:STANDARD
TZOFFSETFROM:-0400
TZOFFSETTO:-0500
TZNAME:EST
DTSTART:20251102T060000
END:STANDARD
BEGIN:DAYLIGHT
TZOFFSETFROM:-0500
TZOFFSETTO:-0400
TZNAME:EDT
DTSTART:20260308T070000
END:DAYLIGHT
BEGIN:STANDARD
TZOFFSETFROM:-0400
TZOFFSETTO:-0500
TZNAME:EST
DTSTART:20261101T060000
END:STANDARD
BEGIN:DAYLIGHT
TZOFFSETFROM:-0500
TZOFFSETTO:-0400
TZNAME:EDT
DTSTART:20270314T070000
END:DAYLIGHT
BEGIN:STANDARD
TZOFFSETFROM:-0400
TZOFFSETTO:-0500
TZNAME:EST
DTSTART:20271107T060000
END:STANDARD
END:VTIMEZONE
BEGIN:VEVENT
DTSTART;TZID=America/New_York:20260203T090000
DTEND;TZID=America/New_York:20260203T130000
DTSTAMP:20260422T063846
CREATED:20260203T003331Z
LAST-MODIFIED:20260203T032202Z
UID:5084-1770109200-1770123600@www.gcpbapistol.com
SUMMARY:RANGE CLOSED - NRA RANGE OFFICER COURSE 9A - 1P
DESCRIPTION:
URL:https://www.gcpbapistol.com/event/nra-range-officer-course-9a-p/
LOCATION:Glen Cove PBA Pistol and Rifle Association\, 109 Lattingtown Rd\, Glen Cove\, NY\, 11542
END:VEVENT
BEGIN:VEVENT
DTSTART;TZID=America/New_York:20260203T130000
DTEND;TZID=America/New_York:20260203T160000
DTSTAMP:20260422T063846
CREATED:20260127T192305Z
LAST-MODIFIED:20260127T192704Z
UID:5011-1770123600-1770134400@www.gcpbapistol.com
SUMMARY:RANGE OFFICER ON SITE 1P- 4P
DESCRIPTION:
URL:https://www.gcpbapistol.com/event/range-officer-on-site-1p-4p-83/
LOCATION:Glen Cove PBA Pistol and Rifle Association\, 109 Lattingtown Rd\, Glen Cove\, NY\, 11542
END:VEVENT
BEGIN:VEVENT
DTSTART;TZID=America/New_York:20260203T180000
DTEND;TZID=America/New_York:20260203T220000
DTSTAMP:20260422T063846
CREATED:20260127T174550Z
LAST-MODIFIED:20260127T174550Z
UID:4968-1770141600-1770156000@www.gcpbapistol.com
SUMMARY:RANGE OFFICER ON SITE 6P - 10P
DESCRIPTION:
URL:https://www.gcpbapistol.com/event/range-officer-on-site-6p-10p-113/
LOCATION:Glen Cove PBA Pistol and Rifle Association\, 109 Lattingtown Rd\, Glen Cove\, NY\, 11542
END:VEVENT
END:VCALENDAR